BEGIN:VCALENDAR
VERSION:2.0
PRODID:-//Evangelisch-Lutherische Gemeinde Berlin-Mitte - ECPv6.15.20//NONSGML v1.0//EN
CALSCALE:GREGORIAN
METHOD:PUBLISH
X-WR-CALNAME:Evangelisch-Lutherische Gemeinde Berlin-Mitte
X-ORIGINAL-URL:https://selk-mitte.de
X-WR-CALDESC:Veranstaltungen für Evangelisch-Lutherische Gemeinde Berlin-Mitte
REFRESH-INTERVAL;VALUE=DURATION:PT1H
X-Robots-Tag:noindex
X-PUBLISHED-TTL:PT1H
BEGIN:VTIMEZONE
TZID:Europe/Berlin
BEGIN:DAYLIGHT
TZOFFSETFROM:+0100
TZOFFSETTO:+0200
TZNAME:CEST
DTSTART:20250330T010000
END:DAYLIGHT
BEGIN:STANDARD
TZOFFSETFROM:+0200
TZOFFSETTO:+0100
TZNAME:CET
DTSTART:20251026T010000
END:STANDARD
BEGIN:DAYLIGHT
TZOFFSETFROM:+0100
TZOFFSETTO:+0200
TZNAME:CEST
DTSTART:20260329T010000
END:DAYLIGHT
BEGIN:STANDARD
TZOFFSETFROM:+0200
TZOFFSETTO:+0100
TZNAME:CET
DTSTART:20261025T010000
END:STANDARD
BEGIN:DAYLIGHT
TZOFFSETFROM:+0100
TZOFFSETTO:+0200
TZNAME:CEST
DTSTART:20270328T010000
END:DAYLIGHT
BEGIN:STANDARD
TZOFFSETFROM:+0200
TZOFFSETTO:+0100
TZNAME:CET
DTSTART:20271031T010000
END:STANDARD
END:VTIMEZONE
BEGIN:VEVENT
DTSTART;TZID=Europe/Berlin:20260419T100000
DTEND;TZID=Europe/Berlin:20260419T120000
DTSTAMP:20260419T203509
CREATED:20260331T130342Z
LAST-MODIFIED:20260331T130342Z
UID:7841-1776592800-1776600000@selk-mitte.de
SUMMARY:Beichte + Hauptgottesdienst
DESCRIPTION:1. Petrus 2\,21b–25 | P. Hillermann
URL:https://selk-mitte.de/termin/beichte-hauptgottesdienst-21/
END:VEVENT
BEGIN:VEVENT
DTSTART;TZID=Europe/Berlin:20260421T190000
DTEND;TZID=Europe/Berlin:20260421T204500
DTSTAMP:20260419T203509
CREATED:20260331T130342Z
LAST-MODIFIED:20260331T130342Z
UID:7842-1776798000-1776804300@selk-mitte.de
SUMMARY:Posaunenchor
DESCRIPTION:
URL:https://selk-mitte.de/termin/posaunenchor-96/
END:VEVENT
BEGIN:VEVENT
DTSTART;TZID=Europe/Berlin:20260421T204500
DTEND;TZID=Europe/Berlin:20260421T210000
DTSTAMP:20260419T203509
CREATED:20260331T130540Z
LAST-MODIFIED:20260331T130540Z
UID:7843-1776804300-1776805200@selk-mitte.de
SUMMARY:Complet
DESCRIPTION:
URL:https://selk-mitte.de/termin/complet-97/
END:VEVENT
BEGIN:VEVENT
DTSTART;TZID=Europe/Berlin:20260422T160000
DTEND;TZID=Europe/Berlin:20260422T173000
DTSTAMP:20260419T203509
CREATED:20260331T130540Z
LAST-MODIFIED:20260331T130540Z
UID:7844-1776873600-1776879000@selk-mitte.de
SUMMARY:Erzählcafé
DESCRIPTION:
URL:https://selk-mitte.de/termin/erzaehlcafe-97/
END:VEVENT
BEGIN:VEVENT
DTSTART;TZID=Europe/Berlin:20260422T190000
DTEND;TZID=Europe/Berlin:20260422T210000
DTSTAMP:20260419T203509
CREATED:20260331T130540Z
LAST-MODIFIED:20260331T130540Z
UID:7845-1776884400-1776891600@selk-mitte.de
SUMMARY:Kirchenchor
DESCRIPTION:
URL:https://selk-mitte.de/termin/kirchenchor-97/
END:VEVENT
BEGIN:VEVENT
DTSTART;VALUE=DATE:20260426
DTEND;VALUE=DATE:20260427
DTSTAMP:20260419T203509
CREATED:20260331T130625Z
LAST-MODIFIED:20260331T130625Z
UID:7858-1777161600-1777247999@selk-mitte.de
SUMMARY:Jubilate
DESCRIPTION:
URL:https://selk-mitte.de/termin/jubilate-2/
END:VEVENT
BEGIN:VEVENT
DTSTART;TZID=Europe/Berlin:20260426T100000
DTEND;TZID=Europe/Berlin:20260426T120000
DTSTAMP:20260419T203509
CREATED:20260331T130540Z
LAST-MODIFIED:20260331T130540Z
UID:7846-1777197600-1777204800@selk-mitte.de
SUMMARY:Hauptgottesdienst
DESCRIPTION:Johannes 15\,1–8 | P. Hillermann
URL:https://selk-mitte.de/termin/hauptgottesdienst-95/
END:VEVENT
BEGIN:VEVENT
DTSTART;TZID=Europe/Berlin:20260428T190000
DTEND;TZID=Europe/Berlin:20260428T204500
DTSTAMP:20260419T203509
CREATED:20260331T130541Z
LAST-MODIFIED:20260331T130541Z
UID:7847-1777402800-1777409100@selk-mitte.de
SUMMARY:Posaunenchor
DESCRIPTION:
URL:https://selk-mitte.de/termin/posaunenchor-97/
END:VEVENT
BEGIN:VEVENT
DTSTART;TZID=Europe/Berlin:20260428T204500
DTEND;TZID=Europe/Berlin:20260428T210000
DTSTAMP:20260419T203509
CREATED:20260331T130555Z
LAST-MODIFIED:20260331T130555Z
UID:7848-1777409100-1777410000@selk-mitte.de
SUMMARY:Complet
DESCRIPTION:
URL:https://selk-mitte.de/termin/complet-98/
END:VEVENT
BEGIN:VEVENT
DTSTART;TZID=Europe/Berlin:20260429T160000
DTEND;TZID=Europe/Berlin:20260429T173000
DTSTAMP:20260419T203509
CREATED:20260331T130555Z
LAST-MODIFIED:20260331T130555Z
UID:7849-1777478400-1777483800@selk-mitte.de
SUMMARY:Erzählcafé
DESCRIPTION:
URL:https://selk-mitte.de/termin/erzaehlcafe-98/
END:VEVENT
BEGIN:VEVENT
DTSTART;TZID=Europe/Berlin:20260429T173000
DTEND;TZID=Europe/Berlin:20260429T180000
DTSTAMP:20260419T203509
CREATED:20260331T130555Z
LAST-MODIFIED:20260331T130555Z
UID:7850-1777483800-1777485600@selk-mitte.de
SUMMARY:Fürbitten
DESCRIPTION:P. Hillermann
URL:https://selk-mitte.de/termin/fuerbitten-25/
END:VEVENT
BEGIN:VEVENT
DTSTART;TZID=Europe/Berlin:20260429T190000
DTEND;TZID=Europe/Berlin:20260429T210000
DTSTAMP:20260419T203509
CREATED:20260331T130555Z
LAST-MODIFIED:20260331T130555Z
UID:7851-1777489200-1777496400@selk-mitte.de
SUMMARY:Kirchenchor
DESCRIPTION:
URL:https://selk-mitte.de/termin/kirchenchor-98/
END:VEVENT
END:VCALENDAR