BEGIN:VCALENDAR
VERSION:2.0
PRODID:-//Evangelisch-Lutherische Gemeinde Berlin-Mitte - ECPv6.15.20//NONSGML v1.0//EN
CALSCALE:GREGORIAN
METHOD:PUBLISH
X-ORIGINAL-URL:https://selk-mitte.de
X-WR-CALDESC:Veranstaltungen für Evangelisch-Lutherische Gemeinde Berlin-Mitte
REFRESH-INTERVAL;VALUE=DURATION:PT1H
X-Robots-Tag:noindex
X-PUBLISHED-TTL:PT1H
BEGIN:VTIMEZONE
TZID:Europe/Berlin
BEGIN:DAYLIGHT
TZOFFSETFROM:+0100
TZOFFSETTO:+0200
TZNAME:CEST
DTSTART:20250330T010000
END:DAYLIGHT
BEGIN:STANDARD
TZOFFSETFROM:+0200
TZOFFSETTO:+0100
TZNAME:CET
DTSTART:20251026T010000
END:STANDARD
BEGIN:DAYLIGHT
TZOFFSETFROM:+0100
TZOFFSETTO:+0200
TZNAME:CEST
DTSTART:20260329T010000
END:DAYLIGHT
BEGIN:STANDARD
TZOFFSETFROM:+0200
TZOFFSETTO:+0100
TZNAME:CET
DTSTART:20261025T010000
END:STANDARD
BEGIN:DAYLIGHT
TZOFFSETFROM:+0100
TZOFFSETTO:+0200
TZNAME:CEST
DTSTART:20270328T010000
END:DAYLIGHT
BEGIN:STANDARD
TZOFFSETFROM:+0200
TZOFFSETTO:+0100
TZNAME:CET
DTSTART:20271031T010000
END:STANDARD
END:VTIMEZONE
BEGIN:VEVENT
DTSTART;TZID=Europe/Berlin:20260120T190000
DTEND;TZID=Europe/Berlin:20260120T204500
DTSTAMP:20260420T042349
CREATED:20251218T201516Z
LAST-MODIFIED:20251218T201516Z
UID:7594-1768935600-1768941900@selk-mitte.de
SUMMARY:Posaunenchor
DESCRIPTION:
URL:https://selk-mitte.de/termin/posaunenchor-85/
END:VEVENT
BEGIN:VEVENT
DTSTART;TZID=Europe/Berlin:20260120T204500
DTEND;TZID=Europe/Berlin:20260120T210000
DTSTAMP:20260420T042349
CREATED:20251218T201530Z
LAST-MODIFIED:20251218T201530Z
UID:7595-1768941900-1768942800@selk-mitte.de
SUMMARY:Complet
DESCRIPTION:
URL:https://selk-mitte.de/termin/complet-86/
END:VEVENT
BEGIN:VEVENT
DTSTART;TZID=Europe/Berlin:20260121T160000
DTEND;TZID=Europe/Berlin:20260121T173000
DTSTAMP:20260420T042349
CREATED:20251218T201530Z
LAST-MODIFIED:20251218T201530Z
UID:7596-1769011200-1769016600@selk-mitte.de
SUMMARY:Erzählcafé
DESCRIPTION:
URL:https://selk-mitte.de/termin/erzaehlcafe-84/
END:VEVENT
BEGIN:VEVENT
DTSTART;TZID=Europe/Berlin:20260121T173000
DTEND;TZID=Europe/Berlin:20260121T180000
DTSTAMP:20260420T042349
CREATED:20251218T201530Z
LAST-MODIFIED:20251218T201530Z
UID:7597-1769016600-1769018400@selk-mitte.de
SUMMARY:Fürbitten
DESCRIPTION:
URL:https://selk-mitte.de/termin/fuerbitten-22/
END:VEVENT
BEGIN:VEVENT
DTSTART;TZID=Europe/Berlin:20260121T180000
DTEND;TZID=Europe/Berlin:20260121T190000
DTSTAMP:20260420T042349
CREATED:20251218T201531Z
LAST-MODIFIED:20251218T201531Z
UID:7598-1769018400-1769022000@selk-mitte.de
SUMMARY:Lutherbibel lesen
DESCRIPTION:
URL:https://selk-mitte.de/termin/lutherbibel-lesen-7/
END:VEVENT
BEGIN:VEVENT
DTSTART;TZID=Europe/Berlin:20260121T190000
DTEND;TZID=Europe/Berlin:20260121T210000
DTSTAMP:20260420T042349
CREATED:20251218T201531Z
LAST-MODIFIED:20251218T201531Z
UID:7599-1769022000-1769029200@selk-mitte.de
SUMMARY:Kirchenchor
DESCRIPTION:
URL:https://selk-mitte.de/termin/kirchenchor-84/
END:VEVENT
BEGIN:VEVENT
DTSTART;VALUE=DATE:20260125
DTEND;VALUE=DATE:20260126
DTSTAMP:20260420T042349
CREATED:20251218T201615Z
LAST-MODIFIED:20251218T201615Z
UID:7611-1769299200-1769385599@selk-mitte.de
SUMMARY:3. Sonntag nach Epiphanias
DESCRIPTION:
URL:https://selk-mitte.de/termin/3-sonntag-nach-epiphanias/
END:VEVENT
BEGIN:VEVENT
DTSTART;TZID=Europe/Berlin:20260125T100000
DTEND;TZID=Europe/Berlin:20260125T120000
DTSTAMP:20260420T042349
CREATED:20251218T201545Z
LAST-MODIFIED:20251218T201545Z
UID:7600-1769335200-1769342400@selk-mitte.de
SUMMARY:Hauptgottesdienst
DESCRIPTION:Apg 10\,21–35 | Pv. a. D. Fenske
URL:https://selk-mitte.de/termin/hauptgottesdienst-82/
END:VEVENT
BEGIN:VEVENT
DTSTART;TZID=Europe/Berlin:20260127T190000
DTEND;TZID=Europe/Berlin:20260127T204500
DTSTAMP:20260420T042349
CREATED:20251218T201545Z
LAST-MODIFIED:20251218T201545Z
UID:7601-1769540400-1769546700@selk-mitte.de
SUMMARY:Posaunenchor
DESCRIPTION:
URL:https://selk-mitte.de/termin/posaunenchor-86/
END:VEVENT
BEGIN:VEVENT
DTSTART;TZID=Europe/Berlin:20260127T204500
DTEND;TZID=Europe/Berlin:20260127T210000
DTSTAMP:20260420T042349
CREATED:20251218T201545Z
LAST-MODIFIED:20251218T201545Z
UID:7602-1769546700-1769547600@selk-mitte.de
SUMMARY:Complet
DESCRIPTION:
URL:https://selk-mitte.de/termin/complet-87/
END:VEVENT
BEGIN:VEVENT
DTSTART;TZID=Europe/Berlin:20260128T160000
DTEND;TZID=Europe/Berlin:20260128T173000
DTSTAMP:20260420T042349
CREATED:20251218T201546Z
LAST-MODIFIED:20251218T201546Z
UID:7603-1769616000-1769621400@selk-mitte.de
SUMMARY:Erzählcafé
DESCRIPTION:
URL:https://selk-mitte.de/termin/erzaehlcafe-85/
END:VEVENT
BEGIN:VEVENT
DTSTART;TZID=Europe/Berlin:20260128T190000
DTEND;TZID=Europe/Berlin:20260128T210000
DTSTAMP:20260420T042349
CREATED:20251218T201546Z
LAST-MODIFIED:20251218T201546Z
UID:7604-1769626800-1769634000@selk-mitte.de
SUMMARY:Kirchenchor
DESCRIPTION:
URL:https://selk-mitte.de/termin/kirchenchor-85/
END:VEVENT
END:VCALENDAR