BEGIN:VCALENDAR
VERSION:2.0
PRODID:-//Evangelisch-Lutherische Gemeinde Berlin-Mitte - ECPv6.15.20//NONSGML v1.0//EN
CALSCALE:GREGORIAN
METHOD:PUBLISH
X-ORIGINAL-URL:https://selk-mitte.de
X-WR-CALDESC:Veranstaltungen für Evangelisch-Lutherische Gemeinde Berlin-Mitte
REFRESH-INTERVAL;VALUE=DURATION:PT1H
X-Robots-Tag:noindex
X-PUBLISHED-TTL:PT1H
BEGIN:VTIMEZONE
TZID:Europe/Berlin
BEGIN:DAYLIGHT
TZOFFSETFROM:+0100
TZOFFSETTO:+0200
TZNAME:CEST
DTSTART:20250330T010000
END:DAYLIGHT
BEGIN:STANDARD
TZOFFSETFROM:+0200
TZOFFSETTO:+0100
TZNAME:CET
DTSTART:20251026T010000
END:STANDARD
BEGIN:DAYLIGHT
TZOFFSETFROM:+0100
TZOFFSETTO:+0200
TZNAME:CEST
DTSTART:20260329T010000
END:DAYLIGHT
BEGIN:STANDARD
TZOFFSETFROM:+0200
TZOFFSETTO:+0100
TZNAME:CET
DTSTART:20261025T010000
END:STANDARD
BEGIN:DAYLIGHT
TZOFFSETFROM:+0100
TZOFFSETTO:+0200
TZNAME:CEST
DTSTART:20270328T010000
END:DAYLIGHT
BEGIN:STANDARD
TZOFFSETFROM:+0200
TZOFFSETTO:+0100
TZNAME:CET
DTSTART:20271031T010000
END:STANDARD
END:VTIMEZONE
BEGIN:VEVENT
DTSTART;TZID=Europe/Berlin:20260422T190000
DTEND;TZID=Europe/Berlin:20260422T210000
DTSTAMP:20260424T083822
CREATED:20260331T130540Z
LAST-MODIFIED:20260331T130540Z
UID:7845-1776884400-1776891600@selk-mitte.de
SUMMARY:Kirchenchor
DESCRIPTION:
URL:https://selk-mitte.de/termin/kirchenchor-97/
END:VEVENT
BEGIN:VEVENT
DTSTART;TZID=Europe/Berlin:20260422T160000
DTEND;TZID=Europe/Berlin:20260422T173000
DTSTAMP:20260424T083822
CREATED:20260331T130540Z
LAST-MODIFIED:20260331T130540Z
UID:7844-1776873600-1776879000@selk-mitte.de
SUMMARY:Erzählcafé
DESCRIPTION:
URL:https://selk-mitte.de/termin/erzaehlcafe-97/
END:VEVENT
BEGIN:VEVENT
DTSTART;TZID=Europe/Berlin:20260421T204500
DTEND;TZID=Europe/Berlin:20260421T210000
DTSTAMP:20260424T083822
CREATED:20260331T130540Z
LAST-MODIFIED:20260331T130540Z
UID:7843-1776804300-1776805200@selk-mitte.de
SUMMARY:Complet
DESCRIPTION:
URL:https://selk-mitte.de/termin/complet-97/
END:VEVENT
BEGIN:VEVENT
DTSTART;TZID=Europe/Berlin:20260421T190000
DTEND;TZID=Europe/Berlin:20260421T204500
DTSTAMP:20260424T083822
CREATED:20260331T130342Z
LAST-MODIFIED:20260331T130342Z
UID:7842-1776798000-1776804300@selk-mitte.de
SUMMARY:Posaunenchor
DESCRIPTION:
URL:https://selk-mitte.de/termin/posaunenchor-96/
END:VEVENT
BEGIN:VEVENT
DTSTART;TZID=Europe/Berlin:20260419T100000
DTEND;TZID=Europe/Berlin:20260419T120000
DTSTAMP:20260424T083822
CREATED:20260331T130342Z
LAST-MODIFIED:20260331T130342Z
UID:7841-1776592800-1776600000@selk-mitte.de
SUMMARY:Beichte + Hauptgottesdienst
DESCRIPTION:1. Petrus 2\,21b–25 | P. Hillermann
URL:https://selk-mitte.de/termin/beichte-hauptgottesdienst-21/
END:VEVENT
BEGIN:VEVENT
DTSTART;TZID=Europe/Berlin:20260418T180000
DTEND;TZID=Europe/Berlin:20260418T200000
DTSTAMP:20260424T083822
CREATED:20260331T130342Z
LAST-MODIFIED:20260331T130342Z
UID:7840-1776535200-1776542400@selk-mitte.de
SUMMARY:Hauptgottesdienst (Neuruppin)
DESCRIPTION:Pf. i. E. Stork
URL:https://selk-mitte.de/termin/hauptgottesdienst-neuruppin/
END:VEVENT
BEGIN:VEVENT
DTSTART;TZID=Europe/Berlin:20260415T190000
DTEND;TZID=Europe/Berlin:20260415T210000
DTSTAMP:20260424T083822
CREATED:20260331T130342Z
LAST-MODIFIED:20260331T130342Z
UID:7839-1776279600-1776286800@selk-mitte.de
SUMMARY:Kirchenchor
DESCRIPTION:
URL:https://selk-mitte.de/termin/kirchenchor-96/
END:VEVENT
BEGIN:VEVENT
DTSTART;TZID=Europe/Berlin:20260415T180000
DTEND;TZID=Europe/Berlin:20260415T190000
DTSTAMP:20260424T083822
CREATED:20260331T130342Z
LAST-MODIFIED:20260331T130342Z
UID:7838-1776276000-1776279600@selk-mitte.de
SUMMARY:Lutherbibel lesen
DESCRIPTION:
URL:https://selk-mitte.de/termin/lutherbibel-lesen-9/
END:VEVENT
BEGIN:VEVENT
DTSTART;TZID=Europe/Berlin:20260415T173000
DTEND;TZID=Europe/Berlin:20260415T180000
DTSTAMP:20260424T083822
CREATED:20260331T130327Z
LAST-MODIFIED:20260331T130327Z
UID:7837-1776274200-1776276000@selk-mitte.de
SUMMARY:Fürbitten
DESCRIPTION:P. Hillermann
URL:https://selk-mitte.de/termin/fuerbitten-24/
END:VEVENT
BEGIN:VEVENT
DTSTART;TZID=Europe/Berlin:20260415T160000
DTEND;TZID=Europe/Berlin:20260415T173000
DTSTAMP:20260424T083822
CREATED:20260331T130327Z
LAST-MODIFIED:20260331T130327Z
UID:7836-1776268800-1776274200@selk-mitte.de
SUMMARY:Erzählcafé
DESCRIPTION:
URL:https://selk-mitte.de/termin/erzaehlcafe-96/
END:VEVENT
BEGIN:VEVENT
DTSTART;TZID=Europe/Berlin:20260414T204500
DTEND;TZID=Europe/Berlin:20260414T210000
DTSTAMP:20260424T083822
CREATED:20260331T130327Z
LAST-MODIFIED:20260331T130327Z
UID:7835-1776199500-1776200400@selk-mitte.de
SUMMARY:Complet
DESCRIPTION:
URL:https://selk-mitte.de/termin/complet-96/
END:VEVENT
BEGIN:VEVENT
DTSTART;TZID=Europe/Berlin:20260414T190000
DTEND;TZID=Europe/Berlin:20260414T204500
DTSTAMP:20260424T083822
CREATED:20260331T130327Z
LAST-MODIFIED:20260331T130327Z
UID:7834-1776193200-1776199500@selk-mitte.de
SUMMARY:Posaunenchor
DESCRIPTION:
URL:https://selk-mitte.de/termin/posaunenchor-95/
END:VEVENT
BEGIN:VEVENT
DTSTART;TZID=Europe/Berlin:20260412T100000
DTEND;TZID=Europe/Berlin:20260412T120000
DTSTAMP:20260424T083822
CREATED:20260331T130326Z
LAST-MODIFIED:20260331T130326Z
UID:7833-1775988000-1775995200@selk-mitte.de
SUMMARY:Hauptgottesdienst
DESCRIPTION:Jesaja 40\,26–31
URL:https://selk-mitte.de/termin/hauptgottesdienst-94/
END:VEVENT
BEGIN:VEVENT
DTSTART;TZID=Europe/Berlin:20260411T090000
DTEND;TZID=Europe/Berlin:20260411T090000
DTSTAMP:20260424T083822
CREATED:20260331T130309Z
LAST-MODIFIED:20260331T130309Z
UID:7832-1775898000-1775898000@selk-mitte.de
SUMMARY:Mette
DESCRIPTION:
URL:https://selk-mitte.de/termin/mette-8/
END:VEVENT
BEGIN:VEVENT
DTSTART;VALUE=DATE:20260409
DTEND;VALUE=DATE:20260410
DTSTAMP:20260424T083822
CREATED:20260331T130556Z
LAST-MODIFIED:20260331T130556Z
UID:7852-1775692800-1775779199@selk-mitte.de
SUMMARY:Hauskreis Mitte
DESCRIPTION:nach Absprache
URL:https://selk-mitte.de/termin/hauskreis-mitte-5/
END:VEVENT
BEGIN:VEVENT
DTSTART;TZID=Europe/Berlin:20260408T190000
DTEND;TZID=Europe/Berlin:20260408T210000
DTSTAMP:20260424T083822
CREATED:20260331T130309Z
LAST-MODIFIED:20260331T130309Z
UID:7831-1775674800-1775682000@selk-mitte.de
SUMMARY:Kirchenchor
DESCRIPTION:
URL:https://selk-mitte.de/termin/kirchenchor-95/
END:VEVENT
BEGIN:VEVENT
DTSTART;TZID=Europe/Berlin:20260408T160000
DTEND;TZID=Europe/Berlin:20260408T173000
DTSTAMP:20260424T083822
CREATED:20260331T130309Z
LAST-MODIFIED:20260331T130309Z
UID:7830-1775664000-1775669400@selk-mitte.de
SUMMARY:Erzählcafé
DESCRIPTION:
URL:https://selk-mitte.de/termin/erzaehlcafe-95/
END:VEVENT
BEGIN:VEVENT
DTSTART;TZID=Europe/Berlin:20260407T204500
DTEND;TZID=Europe/Berlin:20260407T210000
DTSTAMP:20260424T083822
CREATED:20260331T130309Z
LAST-MODIFIED:20260331T130309Z
UID:7829-1775594700-1775595600@selk-mitte.de
SUMMARY:Complet
DESCRIPTION:
URL:https://selk-mitte.de/termin/complet-95/
END:VEVENT
BEGIN:VEVENT
DTSTART;TZID=Europe/Berlin:20260407T190000
DTEND;TZID=Europe/Berlin:20260407T204500
DTSTAMP:20260424T083822
CREATED:20260331T130309Z
LAST-MODIFIED:20260331T130309Z
UID:7828-1775588400-1775594700@selk-mitte.de
SUMMARY:Posaunenchor
DESCRIPTION:
URL:https://selk-mitte.de/termin/posaunenchor-94/
END:VEVENT
BEGIN:VEVENT
DTSTART;TZID=Europe/Berlin:20260406T100000
DTEND;TZID=Europe/Berlin:20260406T120000
DTSTAMP:20260424T083822
CREATED:20260331T130254Z
LAST-MODIFIED:20260331T130254Z
UID:7827-1775469600-1775476800@selk-mitte.de
SUMMARY:Hauptgottesdienst
DESCRIPTION:Lk 24\,36–45 | Pf. i. E. Stork
URL:https://selk-mitte.de/termin/hauptgottesdienst-93/
END:VEVENT
BEGIN:VEVENT
DTSTART;VALUE=DATE:20260406
DTEND;VALUE=DATE:20260407
DTSTAMP:20260424T083822
CREATED:20260331T130610Z
LAST-MODIFIED:20260331T130610Z
UID:7857-1775433600-1775519999@selk-mitte.de
SUMMARY:Ostermontag
DESCRIPTION:
URL:https://selk-mitte.de/termin/ostermontag/
END:VEVENT
BEGIN:VEVENT
DTSTART;TZID=Europe/Berlin:20260405T100000
DTEND;TZID=Europe/Berlin:20260405T120000
DTSTAMP:20260424T083822
CREATED:20260331T130254Z
LAST-MODIFIED:20260331T130254Z
UID:7825-1775383200-1775390400@selk-mitte.de
SUMMARY:Hauptgottesdienst
DESCRIPTION:1. Kor 15\,19–28 | P. Hillermann
URL:https://selk-mitte.de/termin/hauptgottesdienst-92/
END:VEVENT
BEGIN:VEVENT
DTSTART;TZID=Europe/Berlin:20260405T100000
DTEND;TZID=Europe/Berlin:20260405T120000
DTSTAMP:20260424T083822
CREATED:20260331T130254Z
LAST-MODIFIED:20260331T130254Z
UID:7826-1775383200-1775390400@selk-mitte.de
SUMMARY:Ostergottesdienst (Neuruppin)
DESCRIPTION:Pf. i. E. Stork
URL:https://selk-mitte.de/termin/ostergottesdienst-neuruppin/
END:VEVENT
BEGIN:VEVENT
DTSTART;TZID=Europe/Berlin:20260405T093000
DTEND;TZID=Europe/Berlin:20260405T100000
DTSTAMP:20260424T083822
CREATED:20260331T130254Z
LAST-MODIFIED:20260331T130254Z
UID:7824-1775381400-1775383200@selk-mitte.de
SUMMARY:Beichte
DESCRIPTION:
URL:https://selk-mitte.de/termin/beichte-26/
END:VEVENT
BEGIN:VEVENT
DTSTART;VALUE=DATE:20260405
DTEND;VALUE=DATE:20260406
DTSTAMP:20260424T083822
CREATED:20260331T130610Z
LAST-MODIFIED:20260331T130610Z
UID:7856-1775347200-1775433599@selk-mitte.de
SUMMARY:Ostersonntag
DESCRIPTION:
URL:https://selk-mitte.de/termin/ostersonntag-2/
END:VEVENT
BEGIN:VEVENT
DTSTART;TZID=Europe/Berlin:20260404T200000
DTEND;TZID=Europe/Berlin:20260404T220000
DTSTAMP:20260424T083822
CREATED:20260331T130253Z
LAST-MODIFIED:20260331T130253Z
UID:7823-1775332800-1775340000@selk-mitte.de
SUMMARY:Osternacht
DESCRIPTION:2. Tim 2\,8–13 | P. Hillermann + Pf. i. E. Stork
URL:https://selk-mitte.de/termin/osternacht-3/
END:VEVENT
BEGIN:VEVENT
DTSTART;VALUE=DATE:20260404
DTEND;VALUE=DATE:20260405
DTSTAMP:20260424T083822
CREATED:20260331T130610Z
LAST-MODIFIED:20260331T130610Z
UID:7855-1775260800-1775347199@selk-mitte.de
SUMMARY:Karsamstag
DESCRIPTION:
URL:https://selk-mitte.de/termin/karsamstag-2/
END:VEVENT
BEGIN:VEVENT
DTSTART;TZID=Europe/Berlin:20260403T150000
DTEND;TZID=Europe/Berlin:20260403T170000
DTSTAMP:20260424T083822
CREATED:20260331T130252Z
LAST-MODIFIED:20260331T130252Z
UID:7822-1775228400-1775235600@selk-mitte.de
SUMMARY:Liturgie (Neuruppin)
DESCRIPTION:P. Hillermann
URL:https://selk-mitte.de/termin/liturgie-neuruppin/
END:VEVENT
BEGIN:VEVENT
DTSTART;TZID=Europe/Berlin:20260403T100000
DTEND;TZID=Europe/Berlin:20260403T120000
DTSTAMP:20260424T083822
CREATED:20260331T130252Z
LAST-MODIFIED:20260331T130252Z
UID:7821-1775210400-1775217600@selk-mitte.de
SUMMARY:Liturgie
DESCRIPTION:2. Kor 5\,19–21 | P. Hillermann
URL:https://selk-mitte.de/termin/liturgie/
END:VEVENT
BEGIN:VEVENT
DTSTART;VALUE=DATE:20260403
DTEND;VALUE=DATE:20260404
DTSTAMP:20260424T083822
CREATED:20260331T130610Z
LAST-MODIFIED:20260331T130610Z
UID:7854-1775174400-1775260799@selk-mitte.de
SUMMARY:Karfreitag
DESCRIPTION:
URL:https://selk-mitte.de/termin/karfreitag-3/
END:VEVENT
END:VCALENDAR