BEGIN:VCALENDAR
VERSION:2.0
PRODID:-//Evangelisch-Lutherische Gemeinde Berlin-Mitte - ECPv6.15.20//NONSGML v1.0//EN
CALSCALE:GREGORIAN
METHOD:PUBLISH
X-WR-CALNAME:Evangelisch-Lutherische Gemeinde Berlin-Mitte
X-ORIGINAL-URL:https://selk-mitte.de
X-WR-CALDESC:Veranstaltungen für Evangelisch-Lutherische Gemeinde Berlin-Mitte
REFRESH-INTERVAL;VALUE=DURATION:PT1H
X-Robots-Tag:noindex
X-PUBLISHED-TTL:PT1H
BEGIN:VTIMEZONE
TZID:Europe/Berlin
BEGIN:DAYLIGHT
TZOFFSETFROM:+0100
TZOFFSETTO:+0200
TZNAME:CEST
DTSTART:20250330T010000
END:DAYLIGHT
BEGIN:STANDARD
TZOFFSETFROM:+0200
TZOFFSETTO:+0100
TZNAME:CET
DTSTART:20251026T010000
END:STANDARD
BEGIN:DAYLIGHT
TZOFFSETFROM:+0100
TZOFFSETTO:+0200
TZNAME:CEST
DTSTART:20260329T010000
END:DAYLIGHT
BEGIN:STANDARD
TZOFFSETFROM:+0200
TZOFFSETTO:+0100
TZNAME:CET
DTSTART:20261025T010000
END:STANDARD
BEGIN:DAYLIGHT
TZOFFSETFROM:+0100
TZOFFSETTO:+0200
TZNAME:CEST
DTSTART:20270328T010000
END:DAYLIGHT
BEGIN:STANDARD
TZOFFSETFROM:+0200
TZOFFSETTO:+0100
TZNAME:CET
DTSTART:20271031T010000
END:STANDARD
END:VTIMEZONE
BEGIN:VEVENT
DTSTART;VALUE=DATE:20260215
DTEND;VALUE=DATE:20260216
DTSTAMP:20260420T042030
CREATED:20260126T195728Z
LAST-MODIFIED:20260126T195728Z
UID:7673-1771113600-1771199999@selk-mitte.de
SUMMARY:Estomihi
DESCRIPTION:
URL:https://selk-mitte.de/termin/estomihi-2/
END:VEVENT
BEGIN:VEVENT
DTSTART;TZID=Europe/Berlin:20260215T100000
DTEND;TZID=Europe/Berlin:20260215T120000
DTSTAMP:20260420T042030
CREATED:20260126T195623Z
LAST-MODIFIED:20260126T195623Z
UID:7660-1771149600-1771156800@selk-mitte.de
SUMMARY:Beichte + Hauptgottesdienst
DESCRIPTION:Lk 18\,31–43 | Pv. a. D. Fenske
URL:https://selk-mitte.de/termin/beichte-hauptgottesdienst-19/
END:VEVENT
END:VCALENDAR