BEGIN:VCALENDAR
VERSION:2.0
PRODID:-//Evangelisch-Lutherische Gemeinde Berlin-Mitte - ECPv6.15.20//NONSGML v1.0//EN
CALSCALE:GREGORIAN
METHOD:PUBLISH
X-ORIGINAL-URL:https://selk-mitte.de
X-WR-CALDESC:Veranstaltungen für Evangelisch-Lutherische Gemeinde Berlin-Mitte
REFRESH-INTERVAL;VALUE=DURATION:PT1H
X-Robots-Tag:noindex
X-PUBLISHED-TTL:PT1H
BEGIN:VTIMEZONE
TZID:Europe/Berlin
BEGIN:DAYLIGHT
TZOFFSETFROM:+0100
TZOFFSETTO:+0200
TZNAME:CEST
DTSTART:20250330T010000
END:DAYLIGHT
BEGIN:STANDARD
TZOFFSETFROM:+0200
TZOFFSETTO:+0100
TZNAME:CET
DTSTART:20251026T010000
END:STANDARD
BEGIN:DAYLIGHT
TZOFFSETFROM:+0100
TZOFFSETTO:+0200
TZNAME:CEST
DTSTART:20260329T010000
END:DAYLIGHT
BEGIN:STANDARD
TZOFFSETFROM:+0200
TZOFFSETTO:+0100
TZNAME:CET
DTSTART:20261025T010000
END:STANDARD
BEGIN:DAYLIGHT
TZOFFSETFROM:+0100
TZOFFSETTO:+0200
TZNAME:CEST
DTSTART:20270328T010000
END:DAYLIGHT
BEGIN:STANDARD
TZOFFSETFROM:+0200
TZOFFSETTO:+0100
TZNAME:CET
DTSTART:20271031T010000
END:STANDARD
END:VTIMEZONE
BEGIN:VEVENT
DTSTART;TZID=Europe/Berlin:20260204T160000
DTEND;TZID=Europe/Berlin:20260204T173000
DTSTAMP:20260420T060110
CREATED:20260126T195606Z
LAST-MODIFIED:20260126T195606Z
UID:7648-1770220800-1770226200@selk-mitte.de
SUMMARY:Erzählcafé
DESCRIPTION:
URL:https://selk-mitte.de/termin/erzaehlcafe-86/
END:VEVENT
BEGIN:VEVENT
DTSTART;TZID=Europe/Berlin:20260204T173000
DTEND;TZID=Europe/Berlin:20260204T180000
DTSTAMP:20260420T060110
CREATED:20260126T195607Z
LAST-MODIFIED:20260126T195607Z
UID:7649-1770226200-1770228000@selk-mitte.de
SUMMARY:Fürbitten
DESCRIPTION:
URL:https://selk-mitte.de/termin/fuerbitten-23/
END:VEVENT
BEGIN:VEVENT
DTSTART;TZID=Europe/Berlin:20260204T180000
DTEND;TZID=Europe/Berlin:20260204T190000
DTSTAMP:20260420T060110
CREATED:20260126T195607Z
LAST-MODIFIED:20260126T195607Z
UID:7650-1770228000-1770231600@selk-mitte.de
SUMMARY:Lutherbibel lesen
DESCRIPTION:
URL:https://selk-mitte.de/termin/lutherbibel-lesen-8/
END:VEVENT
BEGIN:VEVENT
DTSTART;TZID=Europe/Berlin:20260204T190000
DTEND;TZID=Europe/Berlin:20260204T210000
DTSTAMP:20260420T060110
CREATED:20260126T195607Z
LAST-MODIFIED:20260126T195607Z
UID:7651-1770231600-1770238800@selk-mitte.de
SUMMARY:Kirchenchor
DESCRIPTION:
URL:https://selk-mitte.de/termin/kirchenchor-86/
END:VEVENT
END:VCALENDAR